BEGIN:VCALENDAR
VERSION:2.0
PRODID:-//Mój Blog - ECPv6.15.18//NONSGML v1.0//EN
CALSCALE:GREGORIAN
METHOD:PUBLISH
X-ORIGINAL-URL:https://djsoina.com
X-WR-CALDESC:Wydarzenia dla Mój Blog
REFRESH-INTERVAL;VALUE=DURATION:PT1H
X-Robots-Tag:noindex
X-PUBLISHED-TTL:PT1H
BEGIN:VTIMEZONE
TZID:Europe/Warsaw
BEGIN:DAYLIGHT
TZOFFSETFROM:+0100
TZOFFSETTO:+0200
TZNAME:CEST
DTSTART:20240331T010000
END:DAYLIGHT
BEGIN:STANDARD
TZOFFSETFROM:+0200
TZOFFSETTO:+0100
TZNAME:CET
DTSTART:20241027T010000
END:STANDARD
BEGIN:DAYLIGHT
TZOFFSETFROM:+0100
TZOFFSETTO:+0200
TZNAME:CEST
DTSTART:20250330T010000
END:DAYLIGHT
BEGIN:STANDARD
TZOFFSETFROM:+0200
TZOFFSETTO:+0100
TZNAME:CET
DTSTART:20251026T010000
END:STANDARD
BEGIN:DAYLIGHT
TZOFFSETFROM:+0100
TZOFFSETTO:+0200
TZNAME:CEST
DTSTART:20260329T010000
END:DAYLIGHT
BEGIN:STANDARD
TZOFFSETFROM:+0200
TZOFFSETTO:+0100
TZNAME:CET
DTSTART:20261025T010000
END:STANDARD
END:VTIMEZONE
BEGIN:VEVENT
DTSTART;TZID=Europe/Warsaw:20250705T080000
DTEND;TZID=Europe/Warsaw:20250705T170000
DTSTAMP:20260423T192737
CREATED:20250411T115447Z
LAST-MODIFIED:20250411T115447Z
UID:11047-1751702400-1751734800@djsoina.com
SUMMARY:Opole Osaka IX + WSRH (Słoń Shellerini)
DESCRIPTION:
URL:https://djsoina.com/wydarzenie/opole-osaka-ix-wsrh-slon-shellerini/
END:VEVENT
BEGIN:VEVENT
DTSTART;TZID=Europe/Warsaw:20250708T080000
DTEND;TZID=Europe/Warsaw:20250708T170000
DTSTAMP:20260423T192737
CREATED:20250426T155821Z
LAST-MODIFIED:20250426T155821Z
UID:11144-1751961600-1751994000@djsoina.com
SUMMARY:Sława Rap stacja Festiwal
DESCRIPTION:
URL:https://djsoina.com/wydarzenie/slawa-rap-stacja-festiwal/
END:VEVENT
BEGIN:VEVENT
DTSTART;TZID=Europe/Warsaw:20250709T080000
DTEND;TZID=Europe/Warsaw:20250709T170000
DTSTAMP:20260423T192737
CREATED:20250426T155838Z
LAST-MODIFIED:20250426T155838Z
UID:11146-1752048000-1752080400@djsoina.com
SUMMARY:Sława Rap stacja Festiwal
DESCRIPTION:
URL:https://djsoina.com/wydarzenie/slawa-rap-stacja-festiwal-2/
END:VEVENT
BEGIN:VEVENT
DTSTART;TZID=Europe/Warsaw:20250710T000000
DTEND;TZID=Europe/Warsaw:20250710T235900
DTSTAMP:20260423T192737
CREATED:20250314T083514Z
LAST-MODIFIED:20250314T083514Z
UID:10637-1752105600-1752191940@djsoina.com
SUMMARY:[XX LECIE DJ SOINA] Sława Rap stacja Festiwal
DESCRIPTION:
URL:https://djsoina.com/wydarzenie/slawa-rapstacja-festiwal/
END:VEVENT
BEGIN:VEVENT
DTSTART;TZID=Europe/Warsaw:20250711T080000
DTEND;TZID=Europe/Warsaw:20250711T170000
DTSTAMP:20260423T192737
CREATED:20250426T155858Z
LAST-MODIFIED:20250426T155858Z
UID:11148-1752220800-1752253200@djsoina.com
SUMMARY:Sława Rap stacja Festiwal
DESCRIPTION:
URL:https://djsoina.com/wydarzenie/slawa-rap-stacja-festiwal-3/
END:VEVENT
BEGIN:VEVENT
DTSTART;TZID=Europe/Warsaw:20250712T080000
DTEND;TZID=Europe/Warsaw:20250712T170000
DTSTAMP:20260423T192737
CREATED:20250426T155919Z
LAST-MODIFIED:20250426T155919Z
UID:11150-1752307200-1752339600@djsoina.com
SUMMARY:Sława Rap stacja Festiwal
DESCRIPTION:
URL:https://djsoina.com/wydarzenie/slawa-rap-stacja-festiwal-4/
END:VEVENT
BEGIN:VEVENT
DTSTART;TZID=Europe/Warsaw:20250718T080000
DTEND;TZID=Europe/Warsaw:20250718T170000
DTSTAMP:20260423T192737
CREATED:20250411T115645Z
LAST-MODIFIED:20250411T115645Z
UID:11050-1752825600-1752858000@djsoina.com
SUMMARY:Giżycko Mazury Hip Hop Festiwal + Słoń
DESCRIPTION:
URL:https://djsoina.com/wydarzenie/gizycko-mazury-hip-hop-festiwal-slon/
END:VEVENT
BEGIN:VEVENT
DTSTART;TZID=Europe/Warsaw:20250719T080000
DTEND;TZID=Europe/Warsaw:20250719T170000
DTSTAMP:20260423T192737
CREATED:20250411T114314Z
LAST-MODIFIED:20250411T114314Z
UID:11026-1752912000-1752944400@djsoina.com
SUMMARY:Kalisz Richmond
DESCRIPTION:
URL:https://djsoina.com/wydarzenie/kalisz-richmond/
END:VEVENT
BEGIN:VEVENT
DTSTART;TZID=Europe/Warsaw:20250724T080000
DTEND;TZID=Europe/Warsaw:20250724T170000
DTSTAMP:20260423T192737
CREATED:20250411T115725Z
LAST-MODIFIED:20250411T115725Z
UID:11052-1753344000-1753376400@djsoina.com
SUMMARY:[XX LECIE DJ SOINA] Kołobrzeg Sun Festival + Candiez & Nasty P
DESCRIPTION:
URL:https://djsoina.com/wydarzenie/xx-lecie-dj-soina-kolobrzeg-sun-festival-candiez-nasty-p/
END:VEVENT
BEGIN:VEVENT
DTSTART;TZID=Europe/Warsaw:20250725T080000
DTEND;TZID=Europe/Warsaw:20250725T170000
DTSTAMP:20260423T192737
CREATED:20250411T115922Z
LAST-MODIFIED:20250411T115922Z
UID:11055-1753430400-1753462800@djsoina.com
SUMMARY:Kołobrzeg Sun Festival + Słoń
DESCRIPTION:
URL:https://djsoina.com/wydarzenie/kolobrzeg-sun-festival-slon/
END:VEVENT
BEGIN:VEVENT
DTSTART;TZID=Europe/Warsaw:20250726T080000
DTEND;TZID=Europe/Warsaw:20250726T170000
DTSTAMP:20260423T192737
CREATED:20250411T120025Z
LAST-MODIFIED:20250411T120025Z
UID:11058-1753516800-1753549200@djsoina.com
SUMMARY:Szczecin Wyspa Grodzka
DESCRIPTION:
URL:https://djsoina.com/wydarzenie/szczecin-wyspa-grodzka-2/
END:VEVENT
END:VCALENDAR