BEGIN:VCALENDAR
VERSION:2.0
PRODID:-//Mój Blog - ECPv6.15.18//NONSGML v1.0//EN
CALSCALE:GREGORIAN
METHOD:PUBLISH
X-ORIGINAL-URL:https://djsoina.com
X-WR-CALDESC:Wydarzenia dla Mój Blog
REFRESH-INTERVAL;VALUE=DURATION:PT1H
X-Robots-Tag:noindex
X-PUBLISHED-TTL:PT1H
BEGIN:VTIMEZONE
TZID:Europe/Warsaw
BEGIN:DAYLIGHT
TZOFFSETFROM:+0100
TZOFFSETTO:+0200
TZNAME:CEST
DTSTART:20240331T010000
END:DAYLIGHT
BEGIN:STANDARD
TZOFFSETFROM:+0200
TZOFFSETTO:+0100
TZNAME:CET
DTSTART:20241027T010000
END:STANDARD
BEGIN:DAYLIGHT
TZOFFSETFROM:+0100
TZOFFSETTO:+0200
TZNAME:CEST
DTSTART:20250330T010000
END:DAYLIGHT
BEGIN:STANDARD
TZOFFSETFROM:+0200
TZOFFSETTO:+0100
TZNAME:CET
DTSTART:20251026T010000
END:STANDARD
BEGIN:DAYLIGHT
TZOFFSETFROM:+0100
TZOFFSETTO:+0200
TZNAME:CEST
DTSTART:20260329T010000
END:DAYLIGHT
BEGIN:STANDARD
TZOFFSETFROM:+0200
TZOFFSETTO:+0100
TZNAME:CET
DTSTART:20261025T010000
END:STANDARD
END:VTIMEZONE
BEGIN:VEVENT
DTSTART;VALUE=DATE:20250322
DTEND;VALUE=DATE:20250323
DTSTAMP:20260423T212240
CREATED:20250314T083116Z
LAST-MODIFIED:20250314T083116Z
UID:10619-1742601600-1742687999@djsoina.com
SUMMARY:Poznań B17 + Słoń
DESCRIPTION:
URL:https://djsoina.com/wydarzenie/poznan-b17-slon/
END:VEVENT
BEGIN:VEVENT
DTSTART;VALUE=DATE:20250321
DTEND;VALUE=DATE:20250322
DTSTAMP:20260423T212240
CREATED:20250314T083033Z
LAST-MODIFIED:20250314T083033Z
UID:10617-1742515200-1742601599@djsoina.com
SUMMARY:Kalisz Richmond + donGURALesko
DESCRIPTION:
URL:https://djsoina.com/wydarzenie/kalisz-richmond-donguralesko/
END:VEVENT
BEGIN:VEVENT
DTSTART;VALUE=DATE:20250315
DTEND;VALUE=DATE:20250316
DTSTAMP:20260423T212240
CREATED:20250314T083009Z
LAST-MODIFIED:20250314T083009Z
UID:10615-1741996800-1742083199@djsoina.com
SUMMARY:Gliwice Pre Zero + donGURALesko
DESCRIPTION:
URL:https://djsoina.com/wydarzenie/gliwice-pre-zero-donguralesko/
END:VEVENT
END:VCALENDAR