BEGIN:VCALENDAR
VERSION:2.0
PRODID:-//Mój Blog - ECPv6.15.18//NONSGML v1.0//EN
CALSCALE:GREGORIAN
METHOD:PUBLISH
X-WR-CALNAME:Mój Blog
X-ORIGINAL-URL:https://djsoina.com
X-WR-CALDESC:Wydarzenia dla Mój Blog
REFRESH-INTERVAL;VALUE=DURATION:PT1H
X-Robots-Tag:noindex
X-PUBLISHED-TTL:PT1H
BEGIN:VTIMEZONE
TZID:Europe/Warsaw
BEGIN:DAYLIGHT
TZOFFSETFROM:+0100
TZOFFSETTO:+0200
TZNAME:CEST
DTSTART:20240331T010000
END:DAYLIGHT
BEGIN:STANDARD
TZOFFSETFROM:+0200
TZOFFSETTO:+0100
TZNAME:CET
DTSTART:20241027T010000
END:STANDARD
BEGIN:DAYLIGHT
TZOFFSETFROM:+0100
TZOFFSETTO:+0200
TZNAME:CEST
DTSTART:20250330T010000
END:DAYLIGHT
BEGIN:STANDARD
TZOFFSETFROM:+0200
TZOFFSETTO:+0100
TZNAME:CET
DTSTART:20251026T010000
END:STANDARD
BEGIN:DAYLIGHT
TZOFFSETFROM:+0100
TZOFFSETTO:+0200
TZNAME:CEST
DTSTART:20260329T010000
END:DAYLIGHT
BEGIN:STANDARD
TZOFFSETFROM:+0200
TZOFFSETTO:+0100
TZNAME:CET
DTSTART:20261025T010000
END:STANDARD
END:VTIMEZONE
BEGIN:VEVENT
DTSTART;TZID=Europe/Warsaw:20250802T080000
DTEND;TZID=Europe/Warsaw:20250802T170000
DTSTAMP:20260423T170727
CREATED:20250411T120048Z
LAST-MODIFIED:20250411T120048Z
UID:11060-1754121600-1754154000@djsoina.com
SUMMARY:Brodnica + Słoń
DESCRIPTION:
URL:https://djsoina.com/wydarzenie/brodnica-slon/
END:VEVENT
BEGIN:VEVENT
DTSTART;TZID=Europe/Warsaw:20250726T080000
DTEND;TZID=Europe/Warsaw:20250726T170000
DTSTAMP:20260423T170727
CREATED:20250411T120025Z
LAST-MODIFIED:20250411T120025Z
UID:11058-1753516800-1753549200@djsoina.com
SUMMARY:Szczecin Wyspa Grodzka
DESCRIPTION:
URL:https://djsoina.com/wydarzenie/szczecin-wyspa-grodzka-2/
END:VEVENT
BEGIN:VEVENT
DTSTART;TZID=Europe/Warsaw:20250725T080000
DTEND;TZID=Europe/Warsaw:20250725T170000
DTSTAMP:20260423T170727
CREATED:20250411T115922Z
LAST-MODIFIED:20250411T115922Z
UID:11055-1753430400-1753462800@djsoina.com
SUMMARY:Kołobrzeg Sun Festival + Słoń
DESCRIPTION:
URL:https://djsoina.com/wydarzenie/kolobrzeg-sun-festival-slon/
END:VEVENT
BEGIN:VEVENT
DTSTART;TZID=Europe/Warsaw:20250724T080000
DTEND;TZID=Europe/Warsaw:20250724T170000
DTSTAMP:20260423T170727
CREATED:20250411T115725Z
LAST-MODIFIED:20250411T115725Z
UID:11052-1753344000-1753376400@djsoina.com
SUMMARY:[XX LECIE DJ SOINA] Kołobrzeg Sun Festival + Candiez & Nasty P
DESCRIPTION:
URL:https://djsoina.com/wydarzenie/xx-lecie-dj-soina-kolobrzeg-sun-festival-candiez-nasty-p/
END:VEVENT
BEGIN:VEVENT
DTSTART;TZID=Europe/Warsaw:20250719T080000
DTEND;TZID=Europe/Warsaw:20250719T170000
DTSTAMP:20260423T170727
CREATED:20250411T114314Z
LAST-MODIFIED:20250411T114314Z
UID:11026-1752912000-1752944400@djsoina.com
SUMMARY:Kalisz Richmond
DESCRIPTION:
URL:https://djsoina.com/wydarzenie/kalisz-richmond/
END:VEVENT
BEGIN:VEVENT
DTSTART;TZID=Europe/Warsaw:20250718T080000
DTEND;TZID=Europe/Warsaw:20250718T170000
DTSTAMP:20260423T170727
CREATED:20250411T115645Z
LAST-MODIFIED:20250411T115645Z
UID:11050-1752825600-1752858000@djsoina.com
SUMMARY:Giżycko Mazury Hip Hop Festiwal + Słoń
DESCRIPTION:
URL:https://djsoina.com/wydarzenie/gizycko-mazury-hip-hop-festiwal-slon/
END:VEVENT
BEGIN:VEVENT
DTSTART;TZID=Europe/Warsaw:20250712T080000
DTEND;TZID=Europe/Warsaw:20250712T170000
DTSTAMP:20260423T170727
CREATED:20250426T155919Z
LAST-MODIFIED:20250426T155919Z
UID:11150-1752307200-1752339600@djsoina.com
SUMMARY:Sława Rap stacja Festiwal
DESCRIPTION:
URL:https://djsoina.com/wydarzenie/slawa-rap-stacja-festiwal-4/
END:VEVENT
BEGIN:VEVENT
DTSTART;TZID=Europe/Warsaw:20250711T080000
DTEND;TZID=Europe/Warsaw:20250711T170000
DTSTAMP:20260423T170727
CREATED:20250426T155858Z
LAST-MODIFIED:20250426T155858Z
UID:11148-1752220800-1752253200@djsoina.com
SUMMARY:Sława Rap stacja Festiwal
DESCRIPTION:
URL:https://djsoina.com/wydarzenie/slawa-rap-stacja-festiwal-3/
END:VEVENT
BEGIN:VEVENT
DTSTART;TZID=Europe/Warsaw:20250710T000000
DTEND;TZID=Europe/Warsaw:20250710T235900
DTSTAMP:20260423T170727
CREATED:20250314T083514Z
LAST-MODIFIED:20250314T083514Z
UID:10637-1752105600-1752191940@djsoina.com
SUMMARY:[XX LECIE DJ SOINA] Sława Rap stacja Festiwal
DESCRIPTION:
URL:https://djsoina.com/wydarzenie/slawa-rapstacja-festiwal/
END:VEVENT
BEGIN:VEVENT
DTSTART;TZID=Europe/Warsaw:20250709T080000
DTEND;TZID=Europe/Warsaw:20250709T170000
DTSTAMP:20260423T170727
CREATED:20250426T155838Z
LAST-MODIFIED:20250426T155838Z
UID:11146-1752048000-1752080400@djsoina.com
SUMMARY:Sława Rap stacja Festiwal
DESCRIPTION:
URL:https://djsoina.com/wydarzenie/slawa-rap-stacja-festiwal-2/
END:VEVENT
BEGIN:VEVENT
DTSTART;TZID=Europe/Warsaw:20250708T080000
DTEND;TZID=Europe/Warsaw:20250708T170000
DTSTAMP:20260423T170727
CREATED:20250426T155821Z
LAST-MODIFIED:20250426T155821Z
UID:11144-1751961600-1751994000@djsoina.com
SUMMARY:Sława Rap stacja Festiwal
DESCRIPTION:
URL:https://djsoina.com/wydarzenie/slawa-rap-stacja-festiwal/
END:VEVENT
BEGIN:VEVENT
DTSTART;TZID=Europe/Warsaw:20250705T080000
DTEND;TZID=Europe/Warsaw:20250705T170000
DTSTAMP:20260423T170727
CREATED:20250411T115447Z
LAST-MODIFIED:20250411T115447Z
UID:11047-1751702400-1751734800@djsoina.com
SUMMARY:Opole Osaka IX + WSRH (Słoń Shellerini)
DESCRIPTION:
URL:https://djsoina.com/wydarzenie/opole-osaka-ix-wsrh-slon-shellerini/
END:VEVENT
BEGIN:VEVENT
DTSTART;TZID=Europe/Warsaw:20250628T080000
DTEND;TZID=Europe/Warsaw:20250628T143000
DTSTAMP:20260423T170727
CREATED:20250411T115254Z
LAST-MODIFIED:20250411T115254Z
UID:11045-1751097600-1751121000@djsoina.com
SUMMARY:Gorzów Wielkopolski Amfiteatr Hip-Hop Festiwal
DESCRIPTION:
URL:https://djsoina.com/wydarzenie/gorzow-wielkopolski-amfiteatr-hip-hop-festiwal/
END:VEVENT
BEGIN:VEVENT
DTSTART;VALUE=DATE:20250628
DTEND;VALUE=DATE:20250629
DTSTAMP:20260423T170727
CREATED:20250314T083449Z
LAST-MODIFIED:20250314T083449Z
UID:10635-1751068800-1751155199@djsoina.com
SUMMARY:[XX LECIE DJ SOINA] Środa Wielkopolska Restauracja Plażowa
DESCRIPTION:
URL:https://djsoina.com/wydarzenie/sroda-wielkopolska-restauracja-plazowa/
END:VEVENT
BEGIN:VEVENT
DTSTART;TZID=Europe/Warsaw:20250627T080000
DTEND;TZID=Europe/Warsaw:20250627T170000
DTSTAMP:20260423T170727
CREATED:20250411T115136Z
LAST-MODIFIED:20250411T115136Z
UID:11042-1751011200-1751043600@djsoina.com
SUMMARY:[XX LECIE DJ SOINA] Lubin Dni Miasta
DESCRIPTION:
URL:https://djsoina.com/wydarzenie/lubin-dni-miasta/
END:VEVENT
BEGIN:VEVENT
DTSTART;TZID=Europe/Warsaw:20250620T080000
DTEND;TZID=Europe/Warsaw:20250620T170000
DTSTAMP:20260423T170727
CREATED:20250411T114853Z
LAST-MODIFIED:20250411T114853Z
UID:11040-1750406400-1750438800@djsoina.com
SUMMARY:Przytkowice Energy 2000 + Słoń
DESCRIPTION:
URL:https://djsoina.com/wydarzenie/przytkowice-energy-2000-slon/
END:VEVENT
BEGIN:VEVENT
DTSTART;TZID=Europe/Warsaw:20250614T080000
DTEND;TZID=Europe/Warsaw:20250614T170000
DTSTAMP:20260423T170727
CREATED:20250411T114827Z
LAST-MODIFIED:20250411T114827Z
UID:11038-1749888000-1749920400@djsoina.com
SUMMARY:Poznań na Tarasie + Adam Kalinowski
DESCRIPTION:
URL:https://djsoina.com/wydarzenie/poznan-na-tarasie-adam-kalinowski/
END:VEVENT
BEGIN:VEVENT
DTSTART;TZID=Europe/Warsaw:20250607T080000
DTEND;TZID=Europe/Warsaw:20250607T170000
DTSTAMP:20260423T170727
CREATED:20250411T114749Z
LAST-MODIFIED:20250411T114749Z
UID:11036-1749283200-1749315600@djsoina.com
SUMMARY:Szczecin Wyspa Grodzka
DESCRIPTION:
URL:https://djsoina.com/wydarzenie/szczecin-wyspa-grodzka/
END:VEVENT
BEGIN:VEVENT
DTSTART;TZID=Europe/Warsaw:20250606T080000
DTEND;TZID=Europe/Warsaw:20250606T170000
DTSTAMP:20260423T170727
CREATED:20250411T114646Z
LAST-MODIFIED:20250411T114646Z
UID:11033-1749196800-1749229200@djsoina.com
SUMMARY:Zielona Góra Bachanalia + Ich Troje + Szpaku
DESCRIPTION:
URL:https://djsoina.com/wydarzenie/xx-lecie-dj-soina-zielona-gora-bachanalia/
END:VEVENT
BEGIN:VEVENT
DTSTART;TZID=Europe/Warsaw:20250531T080000
DTEND;TZID=Europe/Warsaw:20250531T170000
DTSTAMP:20260423T170727
CREATED:20250411T114544Z
LAST-MODIFIED:20250411T114544Z
UID:11031-1748678400-1748710800@djsoina.com
SUMMARY:Siemiatycze Festiwal + Słoń + Donguralesko
DESCRIPTION:
URL:https://djsoina.com/wydarzenie/siemiatycze-festiwal-slon-donguralesko/
END:VEVENT
BEGIN:VEVENT
DTSTART;TZID=Europe/Warsaw:20250530T080000
DTEND;TZID=Europe/Warsaw:20250530T170000
DTSTAMP:20260423T170727
CREATED:20250411T114427Z
LAST-MODIFIED:20250411T114427Z
UID:11028-1748592000-1748624400@djsoina.com
SUMMARY:[XX LECIE DJ SOINA] Czerwonak Dni Gminy + Paktofonika
DESCRIPTION:
URL:https://djsoina.com/wydarzenie/xx-lecie-dj-soina-czerwonak-dni-gminy-paktofonika/
END:VEVENT
BEGIN:VEVENT
DTSTART;TZID=Europe/Warsaw:20250524T080000
DTEND;TZID=Europe/Warsaw:20250524T170000
DTSTAMP:20260423T170727
CREATED:20250423T104809Z
LAST-MODIFIED:20250423T104809Z
UID:11096-1748073600-1748106000@djsoina.com
SUMMARY:Szczecin Juwenalia
DESCRIPTION:
URL:https://djsoina.com/wydarzenie/szczecin-juwenalia/
END:VEVENT
BEGIN:VEVENT
DTSTART;TZID=Europe/Warsaw:20250523T080000
DTEND;TZID=Europe/Warsaw:20250523T170000
DTSTAMP:20260423T170727
CREATED:20250411T114255Z
LAST-MODIFIED:20250411T114255Z
UID:11024-1747987200-1748019600@djsoina.com
SUMMARY:Poznań na Tarasie
DESCRIPTION:
URL:https://djsoina.com/wydarzenie/poznan-na-tarasie-2/
END:VEVENT
BEGIN:VEVENT
DTSTART;TZID=Europe/Warsaw:20250517T080000
DTEND;TZID=Europe/Warsaw:20250517T170000
DTSTAMP:20260423T170727
CREATED:20250411T114235Z
LAST-MODIFIED:20250411T114235Z
UID:11022-1747468800-1747501200@djsoina.com
SUMMARY:Poznań Na Tarasie + 21 gram
DESCRIPTION:
URL:https://djsoina.com/wydarzenie/poznan-na-tarasie-21-gram/
END:VEVENT
BEGIN:VEVENT
DTSTART;TZID=Europe/Warsaw:20250516T080000
DTEND;TZID=Europe/Warsaw:20250516T170000
DTSTAMP:20260423T170727
CREATED:20250411T114214Z
LAST-MODIFIED:20250411T114214Z
UID:11019-1747382400-1747414800@djsoina.com
SUMMARY:Kielce Juwenalia Klub Maska
DESCRIPTION:
URL:https://djsoina.com/wydarzenie/kielce-juwenalia-klub-maska/
END:VEVENT
BEGIN:VEVENT
DTSTART;TZID=Europe/Warsaw:20250511T080000
DTEND;TZID=Europe/Warsaw:20250511T170000
DTSTAMP:20260423T170727
CREATED:20250411T114127Z
LAST-MODIFIED:20250411T114127Z
UID:11017-1746950400-1746982800@djsoina.com
SUMMARY:[XX LECIE DJ SOINA] Ostrołęka Motomonster + Marcin Głowacki
DESCRIPTION:
URL:https://djsoina.com/wydarzenie/ostroleka-motomonster-marcin-glowacki/
END:VEVENT
BEGIN:VEVENT
DTSTART;VALUE=DATE:20250510
DTEND;VALUE=DATE:20250511
DTSTAMP:20260423T170727
CREATED:20250314T083425Z
LAST-MODIFIED:20250314T083425Z
UID:10633-1746835200-1746921599@djsoina.com
SUMMARY:[XX LECIE DJ SOINA] Kraków Juwenalia Strefa Polibuda + Szpaku\, Kękę\, Blaga
DESCRIPTION:
URL:https://djsoina.com/wydarzenie/krakow-juwenalia/
END:VEVENT
BEGIN:VEVENT
DTSTART;TZID=Europe/Warsaw:20250509T080000
DTEND;TZID=Europe/Warsaw:20250509T170000
DTSTAMP:20260423T170727
CREATED:20250411T113930Z
LAST-MODIFIED:20250411T113930Z
UID:11014-1746777600-1746810000@djsoina.com
SUMMARY:Katowice Energy 2000 + Słoń
DESCRIPTION:
URL:https://djsoina.com/wydarzenie/katowice-energy-2000-slon/
END:VEVENT
BEGIN:VEVENT
DTSTART;TZID=Europe/Warsaw:20250503T080000
DTEND;TZID=Europe/Warsaw:20250503T170000
DTSTAMP:20260423T170727
CREATED:20250411T113834Z
LAST-MODIFIED:20250411T113834Z
UID:11012-1746259200-1746291600@djsoina.com
SUMMARY:Poznań Na Tarasie
DESCRIPTION:
URL:https://djsoina.com/wydarzenie/poznan-na-tarasie/
END:VEVENT
BEGIN:VEVENT
DTSTART;VALUE=DATE:20250502
DTEND;VALUE=DATE:20250503
DTSTAMP:20260423T170727
CREATED:20250314T083403Z
LAST-MODIFIED:20250314T083403Z
UID:10631-1746144000-1746230399@djsoina.com
SUMMARY:Przytkowice Strefa 57 + Probl3m\, Dwa Sławy\, Kukon
DESCRIPTION:
URL:https://djsoina.com/wydarzenie/przytkowice-strefa-57-probl3m-dwa-slawy-kukon/
END:VEVENT
END:VCALENDAR