BEGIN:VCALENDAR
VERSION:2.0
PRODID:-//Mój Blog - ECPv6.15.18//NONSGML v1.0//EN
CALSCALE:GREGORIAN
METHOD:PUBLISH
X-WR-CALNAME:Mój Blog
X-ORIGINAL-URL:https://djsoina.com
X-WR-CALDESC:Wydarzenia dla Mój Blog
REFRESH-INTERVAL;VALUE=DURATION:PT1H
X-Robots-Tag:noindex
X-PUBLISHED-TTL:PT1H
BEGIN:VTIMEZONE
TZID:UTC
BEGIN:STANDARD
TZOFFSETFROM:+0000
TZOFFSETTO:+0000
TZNAME:UTC
DTSTART:20250101T000000
END:STANDARD
END:VTIMEZONE
BEGIN:VEVENT
DTSTART;TZID=UTC:20260731T080000
DTEND;TZID=UTC:20260731T170000
DTSTAMP:20260421T211031
CREATED:20260328T100224Z
LAST-MODIFIED:20260328T100224Z
UID:11635-1785484800-1785517200@djsoina.com
SUMMARY:Gorzów WLKP Wartownia + PIH
DESCRIPTION:
URL:https://djsoina.com/wydarzenie/gorzow-wlkp-wartownia-pih/
END:VEVENT
BEGIN:VEVENT
DTSTART;TZID=UTC:20260801T080000
DTEND;TZID=UTC:20260801T170000
DTSTAMP:20260421T211031
CREATED:20260328T100239Z
LAST-MODIFIED:20260328T100239Z
UID:11637-1785571200-1785603600@djsoina.com
SUMMARY:Darłowo Stadion
DESCRIPTION:
URL:https://djsoina.com/wydarzenie/darlowo-stadion/
END:VEVENT
BEGIN:VEVENT
DTSTART;TZID=UTC:20260807T080000
DTEND;TZID=UTC:20260807T170000
DTSTAMP:20260421T211031
CREATED:20260328T100310Z
LAST-MODIFIED:20260328T100310Z
UID:11639-1786089600-1786122000@djsoina.com
SUMMARY:Lublin Plener XX Lecie DJ SOINA
DESCRIPTION:
URL:https://djsoina.com/wydarzenie/lublin-plener-xx-lecie-dj-soina/
END:VEVENT
BEGIN:VEVENT
DTSTART;TZID=UTC:20260821T080000
DTEND;TZID=UTC:20260821T170000
DTSTAMP:20260421T211031
CREATED:20260204T204443Z
LAST-MODIFIED:20260204T204443Z
UID:11578-1787299200-1787331600@djsoina.com
SUMMARY:Warszawa Po prostu festiwal
DESCRIPTION:
URL:https://djsoina.com/wydarzenie/warszawa-po-prostu-festiwal/
END:VEVENT
BEGIN:VEVENT
DTSTART;TZID=UTC:20260822T080000
DTEND;TZID=UTC:20260822T170000
DTSTAMP:20260421T211031
CREATED:20260204T204500Z
LAST-MODIFIED:20260204T204500Z
UID:11580-1787385600-1787418000@djsoina.com
SUMMARY:Baranów Fabryka Rytmów
DESCRIPTION:
URL:https://djsoina.com/wydarzenie/baranow-fabryka-rytmow/
END:VEVENT
END:VCALENDAR