BEGIN:VCALENDAR
VERSION:2.0
PRODID:-//Mój Blog - ECPv6.15.18//NONSGML v1.0//EN
CALSCALE:GREGORIAN
METHOD:PUBLISH
X-WR-CALNAME:Mój Blog
X-ORIGINAL-URL:https://djsoina.com
X-WR-CALDESC:Wydarzenia dla Mój Blog
REFRESH-INTERVAL;VALUE=DURATION:PT1H
X-Robots-Tag:noindex
X-PUBLISHED-TTL:PT1H
BEGIN:VTIMEZONE
TZID:Europe/Warsaw
BEGIN:DAYLIGHT
TZOFFSETFROM:+0100
TZOFFSETTO:+0200
TZNAME:CEST
DTSTART:20240331T010000
END:DAYLIGHT
BEGIN:STANDARD
TZOFFSETFROM:+0200
TZOFFSETTO:+0100
TZNAME:CET
DTSTART:20241027T010000
END:STANDARD
BEGIN:DAYLIGHT
TZOFFSETFROM:+0100
TZOFFSETTO:+0200
TZNAME:CEST
DTSTART:20250330T010000
END:DAYLIGHT
BEGIN:STANDARD
TZOFFSETFROM:+0200
TZOFFSETTO:+0100
TZNAME:CET
DTSTART:20251026T010000
END:STANDARD
BEGIN:DAYLIGHT
TZOFFSETFROM:+0100
TZOFFSETTO:+0200
TZNAME:CEST
DTSTART:20260329T010000
END:DAYLIGHT
BEGIN:STANDARD
TZOFFSETFROM:+0200
TZOFFSETTO:+0100
TZNAME:CET
DTSTART:20261025T010000
END:STANDARD
END:VTIMEZONE
BEGIN:VTIMEZONE
TZID:UTC
BEGIN:STANDARD
TZOFFSETFROM:+0000
TZOFFSETTO:+0000
TZNAME:UTC
DTSTART:20240101T000000
END:STANDARD
END:VTIMEZONE
BEGIN:VEVENT
DTSTART;TZID=Europe/Warsaw:20251107T080000
DTEND;TZID=Europe/Warsaw:20251107T170000
DTSTAMP:20260421T223641
CREATED:20250811T183321Z
LAST-MODIFIED:20250811T183321Z
UID:11325-1762502400-1762534800@djsoina.com
SUMMARY:Gdańsk B90 + Słoń
DESCRIPTION:
URL:https://djsoina.com/wydarzenie/gdansk-b90-slon/
END:VEVENT
BEGIN:VEVENT
DTSTART;TZID=Europe/Warsaw:20251115T080000
DTEND;TZID=Europe/Warsaw:20251115T170000
DTSTAMP:20260421T223641
CREATED:20250811T183341Z
LAST-MODIFIED:20251113T200315Z
UID:11327-1763193600-1763226000@djsoina.com
SUMMARY:[XX LECIE DJ SOINA] Suwałki Lux
DESCRIPTION:
URL:https://djsoina.com/wydarzenie/xx-lecie-dj-soina-suwalki-lux/
ATTACH;FMTTYPE=image/jpeg:https://djsoina.com/wp-content/uploads/2025/08/lux1.jpg
END:VEVENT
BEGIN:VEVENT
DTSTART;TZID=Europe/Warsaw:20251121T080000
DTEND;TZID=Europe/Warsaw:20251121T170000
DTSTAMP:20260421T223641
CREATED:20250811T183404Z
LAST-MODIFIED:20251113T200512Z
UID:11329-1763712000-1763744400@djsoina.com
SUMMARY:[XX LECIE DJ SOINA] Wrocław Hip Hop Festival
DESCRIPTION:
URL:https://djsoina.com/wydarzenie/xx-lecie-dj-soina-wroclaw-hip-hop-festival/
ATTACH;FMTTYPE=image/jpeg:https://djsoina.com/wp-content/uploads/2025/08/kmvwro.jpg
END:VEVENT
BEGIN:VEVENT
DTSTART;TZID=UTC:20251127T080000
DTEND;TZID=UTC:20251127T170000
DTSTAMP:20260421T223641
CREATED:20251124T203333Z
LAST-MODIFIED:20251124T203333Z
UID:11486-1764230400-1764262800@djsoina.com
SUMMARY:Toruń Lizard King + donGURALesko
DESCRIPTION:
URL:https://djsoina.com/wydarzenie/torun-lizard-king-donguralesko/
END:VEVENT
BEGIN:VEVENT
DTSTART;TZID=UTC:20251128T080000
DTEND;TZID=UTC:20251128T170000
DTSTAMP:20260421T223641
CREATED:20251124T203418Z
LAST-MODIFIED:20251124T203418Z
UID:11488-1764316800-1764349200@djsoina.com
SUMMARY:[XX LECIE DJ SOINA] Gdańsk Ergo Arena
DESCRIPTION:
URL:https://djsoina.com/wydarzenie/xx-lecie-dj-soina-gdansk-ergo-arena/
END:VEVENT
BEGIN:VEVENT
DTSTART;TZID=Europe/Warsaw:20251129T080000
DTEND;TZID=Europe/Warsaw:20251129T170000
DTSTAMP:20260421T223641
CREATED:20250811T183441Z
LAST-MODIFIED:20251113T200902Z
UID:11333-1764403200-1764435600@djsoina.com
SUMMARY:Łódź Lordis + Słoń
DESCRIPTION:
URL:https://djsoina.com/wydarzenie/lodz-lordis-slon/
ATTACH;FMTTYPE=image/jpeg:https://djsoina.com/wp-content/uploads/2025/08/lords.jpg
END:VEVENT
BEGIN:VEVENT
DTSTART;TZID=UTC:20251204T080000
DTEND;TZID=UTC:20251204T170000
DTSTAMP:20260421T223641
CREATED:20251124T203436Z
LAST-MODIFIED:20251124T203436Z
UID:11490-1764835200-1764867600@djsoina.com
SUMMARY:Kielce Maska
DESCRIPTION:
URL:https://djsoina.com/wydarzenie/kielce-maska-2/
END:VEVENT
BEGIN:VEVENT
DTSTART;TZID=Europe/Warsaw:20251205T080000
DTEND;TZID=Europe/Warsaw:20251205T170000
DTSTAMP:20260421T223641
CREATED:20250811T183502Z
LAST-MODIFIED:20251113T201140Z
UID:11335-1764921600-1764954000@djsoina.com
SUMMARY:Kraków Klub Kwadrat + Słoń
DESCRIPTION:
URL:https://djsoina.com/wydarzenie/krakow-klub-kwadrat-slon/
ATTACH;FMTTYPE=image/jpeg:https://djsoina.com/wp-content/uploads/2025/08/kwad.jpg
END:VEVENT
BEGIN:VEVENT
DTSTART;TZID=UTC:20251205T080000
DTEND;TZID=UTC:20251205T170000
DTSTAMP:20260421T223641
CREATED:20251124T203505Z
LAST-MODIFIED:20251124T203505Z
UID:11492-1764921600-1764954000@djsoina.com
SUMMARY:Kraków Frantic
DESCRIPTION:
URL:https://djsoina.com/wydarzenie/krakow-frantic/
END:VEVENT
BEGIN:VEVENT
DTSTART;TZID=UTC:20251212T080000
DTEND;TZID=UTC:20251212T170000
DTSTAMP:20260421T223641
CREATED:20251124T203553Z
LAST-MODIFIED:20251124T203553Z
UID:11494-1765526400-1765558800@djsoina.com
SUMMARY:Oslo Youngs + Słoń
DESCRIPTION:
URL:https://djsoina.com/wydarzenie/oslo-youngs-slon/
END:VEVENT
BEGIN:VEVENT
DTSTART;TZID=UTC:20251219T080000
DTEND;TZID=UTC:20251219T170000
DTSTAMP:20260421T223641
CREATED:20251124T203613Z
LAST-MODIFIED:20251124T203613Z
UID:11496-1766131200-1766163600@djsoina.com
SUMMARY:Szczecin Kosmos + Słoń
DESCRIPTION:
URL:https://djsoina.com/wydarzenie/szczecin-kosmos-slon/
END:VEVENT
BEGIN:VEVENT
DTSTART;TZID=UTC:20260206T080000
DTEND;TZID=UTC:20260206T170000
DTSTAMP:20260421T223641
CREATED:20251124T203657Z
LAST-MODIFIED:20251124T203657Z
UID:11498-1770364800-1770397200@djsoina.com
SUMMARY:Kalisz Richmond + Shellerini
DESCRIPTION:
URL:https://djsoina.com/wydarzenie/kalisz-richmond-shellerini/
END:VEVENT
BEGIN:VEVENT
DTSTART;TZID=UTC:20260207T080000
DTEND;TZID=UTC:20260207T170000
DTSTAMP:20260421T223641
CREATED:20260204T202647Z
LAST-MODIFIED:20260204T202647Z
UID:11534-1770451200-1770483600@djsoina.com
SUMMARY:Poznań Na Tarasie
DESCRIPTION:
URL:https://djsoina.com/wydarzenie/poznan-na-tarasie-3/
END:VEVENT
BEGIN:VEVENT
DTSTART;TZID=UTC:20260213T080000
DTEND;TZID=UTC:20260213T170000
DTSTAMP:20260421T223641
CREATED:20251124T203815Z
LAST-MODIFIED:20251124T203815Z
UID:11502-1770969600-1771002000@djsoina.com
SUMMARY:Piła MK Bowling + Shellerini
DESCRIPTION:
URL:https://djsoina.com/wydarzenie/pila-mk-bowling-shellerini/
END:VEVENT
BEGIN:VEVENT
DTSTART;TZID=UTC:20260214T080000
DTEND;TZID=UTC:20260214T170000
DTSTAMP:20260421T223641
CREATED:20251124T203837Z
LAST-MODIFIED:20251124T203837Z
UID:11504-1771056000-1771088400@djsoina.com
SUMMARY:Zielona góra onelove + TEDE
DESCRIPTION:
URL:https://djsoina.com/wydarzenie/zielona-gora-onelove-tede/
END:VEVENT
BEGIN:VEVENT
DTSTART;TZID=UTC:20260220T080000
DTEND;TZID=UTC:20260220T170000
DTSTAMP:20260421T223641
CREATED:20260204T203007Z
LAST-MODIFIED:20260204T203007Z
UID:11537-1771574400-1771606800@djsoina.com
SUMMARY:Środa WLKP 8 Bila + Shellerini
DESCRIPTION:
URL:https://djsoina.com/wydarzenie/sroda-wlkp-8-bila-shellerini/
END:VEVENT
BEGIN:VEVENT
DTSTART;TZID=UTC:20260221T080000
DTEND;TZID=UTC:20260221T170000
DTSTAMP:20260421T223641
CREATED:20260204T203106Z
LAST-MODIFIED:20260204T203106Z
UID:11539-1771660800-1771693200@djsoina.com
SUMMARY:Słupsk Domówka + Shellerini
DESCRIPTION:
URL:https://djsoina.com/wydarzenie/slupsk-domowka-shellerini/
END:VEVENT
BEGIN:VEVENT
DTSTART;TZID=UTC:20260227T080000
DTEND;TZID=UTC:20260227T170000
DTSTAMP:20260421T223641
CREATED:20260206T120553Z
LAST-MODIFIED:20260206T120553Z
UID:11583-1772179200-1772211600@djsoina.com
SUMMARY:Poznań Słodownia
DESCRIPTION:
URL:https://djsoina.com/wydarzenie/poznan-slodownia/
END:VEVENT
BEGIN:VEVENT
DTSTART;TZID=UTC:20260228T080000
DTEND;TZID=UTC:20260228T170000
DTSTAMP:20260421T223641
CREATED:20260204T203149Z
LAST-MODIFIED:20260204T203149Z
UID:11541-1772265600-1772298000@djsoina.com
SUMMARY:Leszno Hotel Grant PRIV PARTY
DESCRIPTION:
URL:https://djsoina.com/wydarzenie/leszno-hotel-grant-priv-party/
END:VEVENT
BEGIN:VEVENT
DTSTART;TZID=UTC:20260307T080000
DTEND;TZID=UTC:20260307T170000
DTSTAMP:20260421T223641
CREATED:20260204T203233Z
LAST-MODIFIED:20260204T203233Z
UID:11543-1772870400-1772902800@djsoina.com
SUMMARY:Poznań B17 + donGURALesko XXX Lecie
DESCRIPTION:
URL:https://djsoina.com/wydarzenie/poznan-b17-donguralesko-xxx-lecie/
END:VEVENT
BEGIN:VEVENT
DTSTART;TZID=UTC:20260313T080000
DTEND;TZID=UTC:20260313T170000
DTSTAMP:20260421T223641
CREATED:20260204T203348Z
LAST-MODIFIED:20260204T203348Z
UID:11545-1773388800-1773421200@djsoina.com
SUMMARY:Katowice Energy 2000 + Słoń
DESCRIPTION:
URL:https://djsoina.com/wydarzenie/katowice-energy-2000-slon-2/
END:VEVENT
BEGIN:VEVENT
DTSTART;TZID=UTC:20260320T080000
DTEND;TZID=UTC:20260320T170000
DTSTAMP:20260421T223641
CREATED:20260204T203421Z
LAST-MODIFIED:20260204T203421Z
UID:11547-1773993600-1774026000@djsoina.com
SUMMARY:Warszawa Progresja + Słoń
DESCRIPTION:
URL:https://djsoina.com/wydarzenie/warszawa-progresja-slon-2/
END:VEVENT
BEGIN:VEVENT
DTSTART;TZID=UTC:20260321T080000
DTEND;TZID=UTC:20260321T170000
DTSTAMP:20260421T223641
CREATED:20260204T203451Z
LAST-MODIFIED:20260204T203451Z
UID:11549-1774080000-1774112400@djsoina.com
SUMMARY:Zielona Góra One Love + Shellerini
DESCRIPTION:
URL:https://djsoina.com/wydarzenie/zielona-gora-one-love-shellerini/
END:VEVENT
BEGIN:VEVENT
DTSTART;TZID=UTC:20260327T080000
DTEND;TZID=UTC:20260327T170000
DTSTAMP:20260421T223641
CREATED:20260204T203522Z
LAST-MODIFIED:20260204T203522Z
UID:11551-1774598400-1774630800@djsoina.com
SUMMARY:Wrocław Nietota + Shellerini
DESCRIPTION:
URL:https://djsoina.com/wydarzenie/wroclaw-nietota-shellerini/
END:VEVENT
BEGIN:VEVENT
DTSTART;TZID=UTC:20260328T080000
DTEND;TZID=UTC:20260328T170000
DTSTAMP:20260421T223641
CREATED:20260204T203544Z
LAST-MODIFIED:20260204T203544Z
UID:11553-1774684800-1774717200@djsoina.com
SUMMARY:Poznań MK Bowling + Shellerini
DESCRIPTION:
URL:https://djsoina.com/wydarzenie/poznan-mk-bowling-shellerini/
END:VEVENT
BEGIN:VEVENT
DTSTART;TZID=UTC:20260405T080000
DTEND;TZID=UTC:20260405T170000
DTSTAMP:20260421T223641
CREATED:20260328T095404Z
LAST-MODIFIED:20260328T095404Z
UID:11591-1775376000-1775408400@djsoina.com
SUMMARY:Zielona Góra One Love
DESCRIPTION:
URL:https://djsoina.com/wydarzenie/zielona-gora-one-love-2/
END:VEVENT
BEGIN:VEVENT
DTSTART;TZID=UTC:20260410T080000
DTEND;TZID=UTC:20260410T170000
DTSTAMP:20260421T223641
CREATED:20260401T121013Z
LAST-MODIFIED:20260401T121013Z
UID:11641-1775808000-1775840400@djsoina.com
SUMMARY:Poznań Noce i Dnie
DESCRIPTION:
URL:https://djsoina.com/wydarzenie/poznan-noce-i-dnie/
END:VEVENT
BEGIN:VEVENT
DTSTART;TZID=UTC:20260411T080000
DTEND;TZID=UTC:20260411T170000
DTSTAMP:20260421T223641
CREATED:20260204T203640Z
LAST-MODIFIED:20260204T203640Z
UID:11555-1775894400-1775926800@djsoina.com
SUMMARY:Kraków Hypepark MainStreet Barber
DESCRIPTION:
URL:https://djsoina.com/wydarzenie/krakow-hypepark-mainstreet-barber/
END:VEVENT
BEGIN:VEVENT
DTSTART;TZID=UTC:20260417T080000
DTEND;TZID=UTC:20260417T170000
DTSTAMP:20260421T223641
CREATED:20260401T121034Z
LAST-MODIFIED:20260401T121034Z
UID:11643-1776412800-1776445200@djsoina.com
SUMMARY:Poznań Na Tarasie
DESCRIPTION:
URL:https://djsoina.com/wydarzenie/poznan-na-tarasie-4/
END:VEVENT
BEGIN:VEVENT
DTSTART;TZID=UTC:20260418T080000
DTEND;TZID=UTC:20260418T170000
DTSTAMP:20260421T223641
CREATED:20260204T203701Z
LAST-MODIFIED:20260328T095432Z
UID:11557-1776499200-1776531600@djsoina.com
SUMMARY:Łódź Klub Cień
DESCRIPTION:
URL:https://djsoina.com/wydarzenie/lodz/
END:VEVENT
END:VCALENDAR