BEGIN:VCALENDAR
VERSION:2.0
PRODID:-//Mój Blog - ECPv6.15.18//NONSGML v1.0//EN
CALSCALE:GREGORIAN
METHOD:PUBLISH
X-WR-CALNAME:Mój Blog
X-ORIGINAL-URL:https://djsoina.com
X-WR-CALDESC:Wydarzenia dla Mój Blog
REFRESH-INTERVAL;VALUE=DURATION:PT1H
X-Robots-Tag:noindex
X-PUBLISHED-TTL:PT1H
BEGIN:VTIMEZONE
TZID:UTC
BEGIN:STANDARD
TZOFFSETFROM:+0000
TZOFFSETTO:+0000
TZNAME:UTC
DTSTART:20250101T000000
END:STANDARD
END:VTIMEZONE
BEGIN:VEVENT
DTSTART;TZID=UTC:20260821T080000
DTEND;TZID=UTC:20260821T170000
DTSTAMP:20260421T183116
CREATED:20260204T204443Z
LAST-MODIFIED:20260204T204443Z
UID:11578-1787299200-1787331600@djsoina.com
SUMMARY:Warszawa Po prostu festiwal
DESCRIPTION:
URL:https://djsoina.com/wydarzenie/warszawa-po-prostu-festiwal/
END:VEVENT
END:VCALENDAR