BEGIN:VCALENDAR
VERSION:2.0
PRODID:-//Mój Blog - ECPv6.15.18//NONSGML v1.0//EN
CALSCALE:GREGORIAN
METHOD:PUBLISH
X-ORIGINAL-URL:https://djsoina.com
X-WR-CALDESC:Wydarzenia dla Mój Blog
REFRESH-INTERVAL;VALUE=DURATION:PT1H
X-Robots-Tag:noindex
X-PUBLISHED-TTL:PT1H
BEGIN:VTIMEZONE
TZID:UTC
BEGIN:STANDARD
TZOFFSETFROM:+0000
TZOFFSETTO:+0000
TZNAME:UTC
DTSTART:20250101T000000
END:STANDARD
END:VTIMEZONE
BEGIN:VEVENT
DTSTART;TZID=UTC:20260725T080000
DTEND;TZID=UTC:20260725T170000
DTSTAMP:20260421T170617
CREATED:20260328T100212Z
LAST-MODIFIED:20260328T100212Z
UID:11633-1784966400-1784998800@djsoina.com
SUMMARY:Poznań Na Tarasie Back to Rapport
DESCRIPTION:
URL:https://djsoina.com/wydarzenie/poznan-na-tarasie-back-to-rapport/
END:VEVENT
END:VCALENDAR