BEGIN:VCALENDAR
VERSION:2.0
PRODID:-//Mój Blog - ECPv6.15.18//NONSGML v1.0//EN
CALSCALE:GREGORIAN
METHOD:PUBLISH
X-ORIGINAL-URL:https://djsoina.com
X-WR-CALDESC:Wydarzenia dla Mój Blog
REFRESH-INTERVAL;VALUE=DURATION:PT1H
X-Robots-Tag:noindex
X-PUBLISHED-TTL:PT1H
BEGIN:VTIMEZONE
TZID:UTC
BEGIN:STANDARD
TZOFFSETFROM:+0000
TZOFFSETTO:+0000
TZNAME:UTC
DTSTART:20250101T000000
END:STANDARD
END:VTIMEZONE
BEGIN:VEVENT
DTSTART;TZID=UTC:20260627T080000
DTEND;TZID=UTC:20260627T170000
DTSTAMP:20260421T152602
CREATED:20260204T203855Z
LAST-MODIFIED:20260204T203855Z
UID:11565-1782547200-1782579600@djsoina.com
SUMMARY:Środa Wielkopolska Rap Gra Festiwal
DESCRIPTION:
URL:https://djsoina.com/wydarzenie/sroda-wielkopolska-rap-gra-festiwal/
END:VEVENT
BEGIN:VEVENT
DTSTART;TZID=UTC:20260627T080000
DTEND;TZID=UTC:20260627T170000
DTSTAMP:20260421T152602
CREATED:20260328T100107Z
LAST-MODIFIED:20260328T100107Z
UID:11625-1782547200-1782579600@djsoina.com
SUMMARY:Środa Wielkopolska Rap Gra Festiwal + Słoń
DESCRIPTION:
URL:https://djsoina.com/wydarzenie/sroda-wielkopolska-rap-gra-festiwal-slon/
END:VEVENT
END:VCALENDAR