BEGIN:VCALENDAR
VERSION:2.0
PRODID:-//Mój Blog - ECPv6.15.18//NONSGML v1.0//EN
CALSCALE:GREGORIAN
METHOD:PUBLISH
X-ORIGINAL-URL:https://djsoina.com
X-WR-CALDESC:Wydarzenia dla Mój Blog
REFRESH-INTERVAL;VALUE=DURATION:PT1H
X-Robots-Tag:noindex
X-PUBLISHED-TTL:PT1H
BEGIN:VTIMEZONE
TZID:UTC
BEGIN:STANDARD
TZOFFSETFROM:+0000
TZOFFSETTO:+0000
TZNAME:UTC
DTSTART:20250101T000000
END:STANDARD
END:VTIMEZONE
BEGIN:VEVENT
DTSTART;TZID=UTC:20260307T080000
DTEND;TZID=UTC:20260307T170000
DTSTAMP:20260421T135704
CREATED:20260204T203233Z
LAST-MODIFIED:20260204T203233Z
UID:11543-1772870400-1772902800@djsoina.com
SUMMARY:Poznań B17 + donGURALesko XXX Lecie
DESCRIPTION:
URL:https://djsoina.com/wydarzenie/poznan-b17-donguralesko-xxx-lecie/
END:VEVENT
END:VCALENDAR