BEGIN:VCALENDAR
VERSION:2.0
PRODID:-//Mój Blog - ECPv6.15.18//NONSGML v1.0//EN
CALSCALE:GREGORIAN
METHOD:PUBLISH
X-ORIGINAL-URL:https://djsoina.com
X-WR-CALDESC:Wydarzenia dla Mój Blog
REFRESH-INTERVAL;VALUE=DURATION:PT1H
X-Robots-Tag:noindex
X-PUBLISHED-TTL:PT1H
BEGIN:VTIMEZONE
TZID:UTC
BEGIN:STANDARD
TZOFFSETFROM:+0000
TZOFFSETTO:+0000
TZNAME:UTC
DTSTART:20250101T000000
END:STANDARD
END:VTIMEZONE
BEGIN:VEVENT
DTSTART;TZID=UTC:20260213T080000
DTEND;TZID=UTC:20260213T170000
DTSTAMP:20260421T152602
CREATED:20251124T203815Z
LAST-MODIFIED:20251124T203815Z
UID:11502-1770969600-1771002000@djsoina.com
SUMMARY:Piła MK Bowling + Shellerini
DESCRIPTION:
URL:https://djsoina.com/wydarzenie/pila-mk-bowling-shellerini/
END:VEVENT
END:VCALENDAR